BEGIN:VCALENDAR
VERSION:2.0
PRODID:-//AudioTheme 2.3.8
BEGIN:VEVENT
UID:urn:uuid:ca869491-12bb-48e9-b8de-03bd83d261c7
URL:https://wendidunlap.com/gigs/themestock-xi/
DTSTART;VALUE=DATE:20221009
SUMMARY:Themestock XI
DESCRIPTION:Themestock XI: Save the date! Info TBD.
END:VEVENT
END:VCALENDAR
