BEGIN:VCALENDAR
VERSION:2.0
PRODID:-//AudioTheme 2.3.8
BEGIN:VEVENT
UID:urn:uuid:030b717b-8454-4082-b265-cc5062e81235
URL:https://wendidunlap.com/gigs/live-chat-behind-the-scenes-on-looking-for-buildings/
DTSTART;TZID=GMT:20210817T190000
SUMMARY:Live Chat: Behind The Scenes on Looking For Buildings
DESCRIPTION:Live chat about the making of Looking For Buildings.
LOCATION:Facebook Live\, Online\, 
END:VEVENT
END:VCALENDAR
