BEGIN:VCALENDAR
VERSION:2.0
PRODID:-//AudioTheme 2.3.8
BEGIN:VEVENT
UID:urn:uuid:712efc3b-29b6-4b34-80d7-6ed00792358e
URL:https://wendidunlap.com/gigs/gig-298/
DTSTART;TZID=GMT:20211010T230000
SUMMARY:Themestock X -- Live Show cancelled
DESCRIPTION:The annual Themestock show. Unfortunately the live show was cancelled because of the Delta variant\, but there will be a virtual show in December. Stay tuned for more on that.
LOCATION:Smith's Olde Bar\, 1578 Piedmont Ave NE\, Atlanta\, GA\, United States\, 30324
END:VEVENT
END:VCALENDAR
