BEGIN:VCALENDAR
VERSION:2.0
PRODID:-//AudioTheme 2.3.8
BEGIN:VEVENT
UID:urn:uuid:14934197-d65f-451d-8f12-3e9d4e5501af
URL:https://wendidunlap.com/gigs/2024-10-19/
DTSTART;TZID=GMT:20241019T160000
SUMMARY:Oakhurst Porchfest 2024
DESCRIPTION:Porchfest is a neighborhood-wide day of musical performances on people's porches! It's free\, all-ages\, and there will be a ton of great music and art! See Wendi at 12 noon\, 249 Madison Ave!  
LOCATION:Oakhurst Porchfest\, Oakhurst Porchfest 249 Madison Ave\, Decatur\, GA\, 30030
END:VEVENT
END:VCALENDAR
