BEGIN:VCALENDAR
VERSION:2.0
PRODID:-//AudioTheme 2.3.8
BEGIN:VEVENT
UID:urn:uuid:b457afe7-de85-4bb6-ba48-41dce4ca3044
URL:https://wendidunlap.com/gigs/2022-05-21/
DTSTART;TZID=GMT:20220521T230000
SUMMARY:Looking For Buildings Album Release Party
DESCRIPTION:Wendi's Record Release Show with opening acts Lynsey Moon and Shambulette!
LOCATION:Waller's Coffee House\, 240 Dekalb Industrial Way\, Decatur\, GA\, United States\, 30030
END:VEVENT
END:VCALENDAR
